BEGIN:VCALENDAR
VERSION:2.0
PRODID:-//Plone.org//NONSGML plone.app.event//EN
X-WR-TIMEZONE:Europe/Rome
BEGIN:VEVENT
SUMMARY:Workshop on IHS manifolds and stability conditions
DTSTART;VALUE=DATE:20171121
DTEND;VALUE=DATE:20171125
DTSTAMP;VALUE=DATE-TIME:20260421T164750Z
UID:76db0d9780984abeb4cfb11438450748@math.unibo.it
CREATED;VALUE=DATE-TIME:20171020T110656Z
LAST-MODIFIED;VALUE=DATE-TIME:20171020T110710Z
URL:https://math.unibo.it/en/events/workshop-on-ihs-manifolds-and-stabilit
 y-conditions
END:VEVENT
END:VCALENDAR
