BEGIN:VCALENDAR
VERSION:2.0
PRODID:-//Plone.org//NONSGML plone.app.event//EN
X-WR-TIMEZONE:Europe/Rome
BEGIN:VEVENT
SUMMARY:WASCOM 2017 
DTSTART;VALUE=DATE:20170612
DTEND;VALUE=DATE:20170617
DTSTAMP;VALUE=DATE-TIME:20260421T175527Z
UID:103ab00c0abe490f8134282984c07d15@math.unibo.it
CREATED;VALUE=DATE-TIME:20161109T100433Z
DESCRIPTION:XIX International Conference on Waves and Stability in Continu
 ous Media 
LAST-MODIFIED;VALUE=DATE-TIME:20161109T100440Z
URL:https://math.unibo.it/en/events/wascom-2017
END:VEVENT
END:VCALENDAR
