BEGIN:VCALENDAR
VERSION:2.0
PRODID:-//Plone.org//NONSGML plone.app.event//EN
X-WR-TIMEZONE:Europe/Rome
BEGIN:VEVENT
SUMMARY:Variational and PDE problems in Geometric Analysis
DTSTART;VALUE=DATE:20180531
DTEND;VALUE=DATE:20180602
DTSTAMP;VALUE=DATE-TIME:20260421T163630Z
UID:3fd152ea874f40b4b32a5d92d6ef3dd4@math.unibo.it
CREATED;VALUE=DATE-TIME:20180413T085641Z
LAST-MODIFIED;VALUE=DATE-TIME:20180413T085649Z
URL:https://math.unibo.it/en/events/variational-and-pde-problems-in-geomet
 ric-analysis
END:VEVENT
END:VCALENDAR
