BEGIN:VCALENDAR
VERSION:2.0
PRODID:-//Plone.org//NONSGML plone.app.event//EN
X-WR-TIMEZONE:Europe/Rome
BEGIN:VEVENT
SUMMARY:Two Days on PDEs - Bruno Pini Centenary Conference
DTSTART;VALUE=DATE:20180621
DTEND;VALUE=DATE:20180623
DTSTAMP;VALUE=DATE-TIME:20260421T164904Z
UID:c751ee65d2114b1e981baf6fa3491c02@math.unibo.it
CREATED;VALUE=DATE-TIME:20180315T081947Z
LAST-MODIFIED;VALUE=DATE-TIME:20180315T082006Z
URL:https://math.unibo.it/en/events/two-days-on-pdes-bruno-pini-centenary-
 conference
END:VEVENT
END:VCALENDAR
