BEGIN:VCALENDAR
VERSION:2.0
PRODID:-//Plone.org//NONSGML plone.app.event//EN
X-WR-TIMEZONE:Europe/Rome
BEGIN:VEVENT
SUMMARY:Two-day Meeting on linear and nonlinear PDE's in honor of the 65th
  birthday of Cristian Gutierrez
DTSTART;TZID=Europe/Rome;VALUE=DATE-TIME:20160609T000000
DTEND;TZID=Europe/Rome;VALUE=DATE-TIME:20160610T000000
DTSTAMP;VALUE=DATE-TIME:20260421T151557Z
UID:f3a1530008d641f0aec10e0d57ef7c00@math.unibo.it
CREATED;VALUE=DATE-TIME:20160317T065714Z
LAST-MODIFIED;VALUE=DATE-TIME:20160531T053438Z
URL:https://math.unibo.it/en/events/two-day-meeting-on-linear-and-nonlinea
 r-pdes-in-honor-of-the-65th-birthday-of-cristian-gutierrez
END:VEVENT
BEGIN:VTIMEZONE
TZID:Europe/Rome
X-LIC-LOCATION:Europe/Rome
BEGIN:DAYLIGHT
DTSTART;VALUE=DATE-TIME:20160327T030000
TZNAME:CEST
TZOFFSETFROM:+0100
TZOFFSETTO:+0200
END:DAYLIGHT
END:VTIMEZONE
END:VCALENDAR
