BEGIN:VCALENDAR
VERSION:2.0
PRODID:-//Plone.org//NONSGML plone.app.event//EN
X-WR-TIMEZONE:Europe/Rome
BEGIN:VEVENT
SUMMARY:Summer School "Mathematics in Imaging Sciences"
DTSTART;VALUE=DATE:20180528
DTEND;VALUE=DATE:20180602
DTSTAMP;VALUE=DATE-TIME:20260421T145608Z
UID:f86bf36faa78429581df99d039751ba2@math.unibo.it
CREATED;VALUE=DATE-TIME:20170712T122607Z
LAST-MODIFIED;VALUE=DATE-TIME:20170712T122617Z
URL:https://math.unibo.it/en/events/summer-school-mathematics-in-imaging-s
 ciences
END:VEVENT
END:VCALENDAR
