BEGIN:VCALENDAR
VERSION:2.0
PRODID:-//Plone.org//NONSGML plone.app.event//EN
X-WR-TIMEZONE:Europe/Rome
BEGIN:VEVENT
SUMMARY:Summer School "ACOTCA 2018 Advanced Course in Operator Theory and 
 Complex Analysis"
DTSTART;VALUE=DATE:20180611
DTEND;VALUE=DATE:20180615
DTSTAMP;VALUE=DATE-TIME:20260421T183859Z
UID:495f4da264f54ae5aa5d37571278a81b@math.unibo.it
CREATED;VALUE=DATE-TIME:20171109T085321Z
LAST-MODIFIED;VALUE=DATE-TIME:20171109T085330Z
URL:https://math.unibo.it/en/events/summer-school-acotca-2018-advanced-cou
 rse-in-operator-theory-and-complex-analysis
END:VEVENT
END:VCALENDAR
