BEGIN:VCALENDAR
VERSION:2.0
PRODID:-//Plone.org//NONSGML plone.app.event//EN
X-WR-TIMEZONE:Europe/Rome
BEGIN:VEVENT
SUMMARY:Sub-Riemannian Geometry Harmonic Analysis\, PDE and Applications
DTSTART;VALUE=DATE:20180124
DTEND;VALUE=DATE:20180128
DTSTAMP;VALUE=DATE-TIME:20260421T150747Z
UID:a2a4959edd8f44dbbbb7239075e96172@math.unibo.it
CREATED;VALUE=DATE-TIME:20171109T085439Z
LAST-MODIFIED;VALUE=DATE-TIME:20171109T085447Z
URL:https://math.unibo.it/en/events/sub-riemannian-geometry-harmonic-analy
 sis-pde-and-applications
END:VEVENT
END:VCALENDAR
