BEGIN:VCALENDAR
VERSION:2.0
PRODID:-//Plone.org//NONSGML plone.app.event//EN
X-WR-TIMEZONE:Europe/Rome
BEGIN:VEVENT
SUMMARY:SSF2019 Spring School on XVA modeling 
DTSTART;VALUE=DATE:20190516
DTEND;VALUE=DATE:20190518
DTSTAMP;VALUE=DATE-TIME:20260421T132338Z
UID:1db03cf685b04e68b7c3c125396dc8bd@math.unibo.it
CREATED;VALUE=DATE-TIME:20190418T080007Z
DESCRIPTION: A Pricing Framework for Valuation Adjustments 
LAST-MODIFIED;VALUE=DATE-TIME:20190418T080024Z
URL:https://math.unibo.it/en/events/ssf2019-spring-school-on-xva-modeling
END:VEVENT
END:VCALENDAR
