BEGIN:VCALENDAR
VERSION:2.0
PRODID:-//Plone.org//NONSGML plone.app.event//EN
X-WR-TIMEZONE:Europe/Rome
BEGIN:VEVENT
SUMMARY:Spring School in Finance
DTSTART;TZID=Europe/Rome;VALUE=DATE-TIME:20160310T000000
DTEND;TZID=Europe/Rome;VALUE=DATE-TIME:20160312T000000
DTSTAMP;VALUE=DATE-TIME:20260421T181054Z
UID:1a6b3c76cc084eb282add4fb8efee636@math.unibo.it
CREATED;VALUE=DATE-TIME:20150708T062118Z
LAST-MODIFIED;VALUE=DATE-TIME:20150708T062417Z
URL:https://math.unibo.it/en/events/spring-school-in-finance
END:VEVENT
BEGIN:VTIMEZONE
TZID:Europe/Rome
X-LIC-LOCATION:Europe/Rome
BEGIN:STANDARD
DTSTART;VALUE=DATE-TIME:20151025T020000
TZNAME:CET
TZOFFSETFROM:+0200
TZOFFSETTO:+0100
END:STANDARD
END:VTIMEZONE
END:VCALENDAR
