BEGIN:VCALENDAR
VERSION:2.0
PRODID:-//Plone.org//NONSGML plone.app.event//EN
X-WR-TIMEZONE:Europe/Rome
BEGIN:VEVENT
SUMMARY:Something about nonlinear problems
DTSTART;VALUE=DATE:20190613
DTEND;VALUE=DATE:20190615
DTSTAMP;VALUE=DATE-TIME:20260421T132131Z
UID:bf61f654c1d54bcba04e38ba7023c0b1@math.unibo.it
CREATED;VALUE=DATE-TIME:20190514T104101Z
LAST-MODIFIED;VALUE=DATE-TIME:20190514T104408Z
URL:https://math.unibo.it/en/events/something-about-nonlinear-problems
END:VEVENT
END:VCALENDAR
