BEGIN:VCALENDAR
VERSION:2.0
PRODID:-//Plone.org//NONSGML plone.app.event//EN
X-WR-TIMEZONE:Europe/Rome
BEGIN:VEVENT
SUMMARY:Quantum Days in Bologna\, 2019
DTSTART;VALUE=DATE:20190619
DTEND;VALUE=DATE:20190621
DTSTAMP;VALUE=DATE-TIME:20260421T164712Z
UID:c132ae4cd3d5437fb56aa31d098faf37@math.unibo.it
CREATED;VALUE=DATE-TIME:20190423T123005Z
LAST-MODIFIED;VALUE=DATE-TIME:20190423T123030Z
URL:https://math.unibo.it/en/events/quantum-days-in-bologna-2019
END:VEVENT
END:VCALENDAR
