BEGIN:VCALENDAR
VERSION:2.0
PRODID:-//Plone.org//NONSGML plone.app.event//EN
X-WR-TIMEZONE:Europe/Rome
BEGIN:VEVENT
SUMMARY:Panel on Job applications
DTSTART;TZID=Europe/Rome;VALUE=DATE-TIME:20251209T170000
DTEND;TZID=Europe/Rome;VALUE=DATE-TIME:20251209T190000
DTSTAMP;VALUE=DATE-TIME:20260423T012946Z
UID:f68cfe551a7e441981d40d8185f7e551@math.unibo.it
CREATED;VALUE=DATE-TIME:20251114T101151Z
DESCRIPTION:Job applications: How to find a job in Academia
LAST-MODIFIED;VALUE=DATE-TIME:20251118T095706Z
URL:https://math.unibo.it/en/events/panel-on-job-applications
END:VEVENT
BEGIN:VTIMEZONE
TZID:Europe/Rome
X-LIC-LOCATION:Europe/Rome
BEGIN:STANDARD
DTSTART;VALUE=DATE-TIME:20251026T020000
TZNAME:CET
TZOFFSETFROM:+0200
TZOFFSETTO:+0100
END:STANDARD
END:VTIMEZONE
END:VCALENDAR
