BEGIN:VCALENDAR
VERSION:2.0
PRODID:-//Plone.org//NONSGML plone.app.event//EN
X-WR-TIMEZONE:Europe/Rome
BEGIN:VEVENT
SUMMARY:Optimization and low-rank solvers for isogeometric analysis 
DTSTART;VALUE=DATE:20200220
DTEND;VALUE=DATE:20200221
DTSTAMP;VALUE=DATE-TIME:20260421T164454Z
UID:590e87d8b33144e9944e04fdfb14d87f@math.unibo.it
CREATED;VALUE=DATE-TIME:20191220T132130Z
DESCRIPTION:MIUR-DAAD Project Final Workshop 
LAST-MODIFIED;VALUE=DATE-TIME:20200127T155556Z
URL:https://math.unibo.it/en/events/optimization-and-low-rank-solvers-for-
 isogeometric-analysis
END:VEVENT
END:VCALENDAR
