BEGIN:VCALENDAR
VERSION:2.0
PRODID:-//Plone.org//NONSGML plone.app.event//EN
X-WR-TIMEZONE:Europe/Rome
BEGIN:VEVENT
SUMMARY:Mathematical Methods and Models in Machine Learning
DTSTART;VALUE=DATE:20200427
DTEND;VALUE=DATE:20200429
DTSTAMP;VALUE=DATE-TIME:20260421T145608Z
UID:d17c3f7d6bfb481bb362ab60118d9b86@math.unibo.it
CREATED;VALUE=DATE-TIME:20200127T123418Z
DESCRIPTION:The purpose of the conference is to present recent results on 
 mathematical methods and models related to machine learning and link resea
 rchers coming from different areas.
LAST-MODIFIED;VALUE=DATE-TIME:20200407T142104Z
URL:https://math.unibo.it/en/events/mathematical-methods-and-models-in-mac
 hine-learning
END:VEVENT
END:VCALENDAR
