BEGIN:VCALENDAR
VERSION:2.0
PRODID:-//Plone.org//NONSGML plone.app.event//EN
X-WR-TIMEZONE:Europe/Rome
BEGIN:VEVENT
SUMMARY:ISA Medal for Science 2015 to Prof. Robert Putnam - Oct 14\, 2015
DTSTART;TZID=Europe/Rome;VALUE=DATE-TIME:20151014T160000
DTEND;TZID=Europe/Rome;VALUE=DATE-TIME:20151014T180000
DTSTAMP;VALUE=DATE-TIME:20260421T151007Z
UID:aec0d439eba5480685da4003d390d657@math.unibo.it
CREATED;VALUE=DATE-TIME:20151006T094017Z
DESCRIPTION:The Academic Board of the Institute of Advanced Studies at Uni
 bo has granted Prof. Robert Putnam with the ISA Medal for Science 2015.
LAST-MODIFIED;VALUE=DATE-TIME:20151006T094033Z
URL:https://math.unibo.it/en/events/isa-medal-for-science-2015-to-prof.-ro
 bert-putnam-oct-14-2015
END:VEVENT
BEGIN:VTIMEZONE
TZID:Europe/Rome
X-LIC-LOCATION:Europe/Rome
BEGIN:DAYLIGHT
DTSTART;VALUE=DATE-TIME:20150329T030000
TZNAME:CEST
TZOFFSETFROM:+0100
TZOFFSETTO:+0200
END:DAYLIGHT
END:VTIMEZONE
END:VCALENDAR
