BEGIN:VCALENDAR
VERSION:2.0
PRODID:-//Plone.org//NONSGML plone.app.event//EN
X-WR-TIMEZONE:Europe/Rome
BEGIN:VEVENT
SUMMARY:Functional analytic methods for PDEs
DTSTART;VALUE=DATE:20190625
DTEND;VALUE=DATE:20190629
DTSTAMP;VALUE=DATE-TIME:20260421T163016Z
UID:8701ea67f08345649c571b0144ce4d8e@math.unibo.it
CREATED;VALUE=DATE-TIME:20190607T090328Z
LAST-MODIFIED;VALUE=DATE-TIME:20190607T090545Z
URL:https://math.unibo.it/en/events/functional-analytic-methods-for-pdes
END:VEVENT
END:VCALENDAR
