BEGIN:VCALENDAR
VERSION:2.0
PRODID:-//Plone.org//NONSGML plone.app.event//EN
X-WR-TIMEZONE:Europe/Rome
BEGIN:VEVENT
SUMMARY:DinAmicI V: Modern Trends in the Ergodic Theory of Dynamical Syste
 ms
DTSTART;VALUE=DATE:20170605
DTEND;VALUE=DATE:20170610
DTSTAMP;VALUE=DATE-TIME:20260421T151128Z
UID:d44f23f0e70141b4ab373ba2d6bfd1ab@math.unibo.it
CREATED;VALUE=DATE-TIME:20170303T100026Z
LAST-MODIFIED;VALUE=DATE-TIME:20170303T100038Z
URL:https://math.unibo.it/en/events/dinamici-v-modern-trends-in-the-ergodi
 c-theory-of-dynamical-systems
END:VEVENT
END:VCALENDAR
