BEGIN:VCALENDAR
VERSION:2.0
PRODID:-//Plone.org//NONSGML plone.app.event//EN
X-WR-TIMEZONE:Europe/Rome
BEGIN:VEVENT
SUMMARY:Career Day 1st of March 2016
DTSTART;TZID=Europe/Rome;VALUE=DATE-TIME:20160301T000000
DTEND;TZID=Europe/Rome;VALUE=DATE-TIME:20160301T000000
DTSTAMP;VALUE=DATE-TIME:20260421T151104Z
UID:5df77a5f759244ef946070f4f41d1207@math.unibo.it
CREATED;VALUE=DATE-TIME:20160128T133113Z
DESCRIPTION:Register online\, meet employers\, and submit your CV
LAST-MODIFIED;VALUE=DATE-TIME:20160128T133125Z
URL:https://math.unibo.it/en/events/career-day-1st-of-march-2016
END:VEVENT
BEGIN:VTIMEZONE
TZID:Europe/Rome
X-LIC-LOCATION:Europe/Rome
BEGIN:STANDARD
DTSTART;VALUE=DATE-TIME:20151025T020000
TZNAME:CET
TZOFFSETFROM:+0200
TZOFFSETTO:+0100
END:STANDARD
END:VTIMEZONE
END:VCALENDAR
