BEGIN:VCALENDAR
VERSION:2.0
PRODID:-//Plone.org//NONSGML plone.app.event//EN
X-WR-TIMEZONE:Europe/Rome
BEGIN:VEVENT
SUMMARY:A Tale of Algebra and Geometry - a conference to celebrate Angelo 
 Vistoli's 60th birthday
DTSTART;VALUE=DATE:20180604
DTEND;VALUE=DATE:20180608
DTSTAMP;VALUE=DATE-TIME:20260421T140825Z
UID:27f83bc3eaf341e39ca3bbc3797ef7ef@math.unibo.it
CREATED;VALUE=DATE-TIME:20170726T062501Z
LAST-MODIFIED;VALUE=DATE-TIME:20170726T062546Z
URL:https://math.unibo.it/en/events/a-tale-of-algebra-and-geometry-a-confe
 rence-to-celebrate-angelo-vistolis-60th-birthday
END:VEVENT
END:VCALENDAR
