BEGIN:VCALENDAR
VERSION:2.0
PRODID:-//Plone.org//NONSGML plone.app.event//EN
X-WR-TIMEZONE:Europe/Rome
BEGIN:VEVENT
SUMMARY:A rationale on artificial intelligence in shallow networks
DTSTART;TZID=Europe/Rome;VALUE=DATE-TIME:20200207T150000
DTEND;TZID=Europe/Rome;VALUE=DATE-TIME:20200207T163000
DTSTAMP;VALUE=DATE-TIME:20260421T164454Z
UID:5361263d4a52465e94db45ae51af4168@math.unibo.it
CREATED;VALUE=DATE-TIME:20200121T160348Z
DESCRIPTION:The purpose of the conference is to present recent results on 
 mathematical methods and models related to machine learning and link resea
 rchers coming from different areas.
LAST-MODIFIED;VALUE=DATE-TIME:20200127T155619Z
URL:https://math.unibo.it/en/events/a-rationale-on-artificial-intelligence
 -in-shallow-networks
END:VEVENT
BEGIN:VTIMEZONE
TZID:Europe/Rome
X-LIC-LOCATION:Europe/Rome
BEGIN:STANDARD
DTSTART;VALUE=DATE-TIME:20191027T020000
TZNAME:CET
TZOFFSETFROM:+0200
TZOFFSETTO:+0100
END:STANDARD
END:VTIMEZONE
END:VCALENDAR
