BEGIN:VCALENDAR
VERSION:2.0
PRODID:-//Plone.org//NONSGML plone.app.event//EN
X-WR-TIMEZONE:Europe/Rome
BEGIN:VEVENT
SUMMARY:A Lie Day in Bologna
DTSTART;TZID=Europe/Rome;VALUE=DATE-TIME:20171013T100000
DTEND;TZID=Europe/Rome;VALUE=DATE-TIME:20171013T180000
DTSTAMP;VALUE=DATE-TIME:20260421T165011Z
UID:f672f303619d432abbe72d6e661b2fd3@math.unibo.it
CREATED;VALUE=DATE-TIME:20170619T071111Z
LAST-MODIFIED;VALUE=DATE-TIME:20170619T071506Z
URL:https://math.unibo.it/en/events/a-lie-day-in-bologna-1
END:VEVENT
BEGIN:VTIMEZONE
TZID:Europe/Rome
X-LIC-LOCATION:Europe/Rome
BEGIN:DAYLIGHT
DTSTART;VALUE=DATE-TIME:20170326T030000
TZNAME:CEST
TZOFFSETFROM:+0100
TZOFFSETTO:+0200
END:DAYLIGHT
END:VTIMEZONE
END:VCALENDAR
